BEGIN:VCALENDAR
VERSION:2.0
PRODID:-//Sabydoma - ECPv6.3.5//NONSGML v1.0//EN
CALSCALE:GREGORIAN
METHOD:PUBLISH
X-WR-CALNAME:Sabydoma
X-ORIGINAL-URL:https://www.sabydoma.eu
X-WR-CALDESC:Events for Sabydoma
REFRESH-INTERVAL;VALUE=DURATION:PT1H
X-Robots-Tag:noindex
X-PUBLISHED-TTL:PT1H
BEGIN:VTIMEZONE
TZID:Europe/Vienna
BEGIN:DAYLIGHT
TZOFFSETFROM:+0100
TZOFFSETTO:+0200
TZNAME:CEST
DTSTART:20200329T010000
END:DAYLIGHT
BEGIN:STANDARD
TZOFFSETFROM:+0200
TZOFFSETTO:+0100
TZNAME:CET
DTSTART:20201025T010000
END:STANDARD
BEGIN:DAYLIGHT
TZOFFSETFROM:+0100
TZOFFSETTO:+0200
TZNAME:CEST
DTSTART:20210328T010000
END:DAYLIGHT
BEGIN:STANDARD
TZOFFSETFROM:+0200
TZOFFSETTO:+0100
TZNAME:CET
DTSTART:20211031T010000
END:STANDARD
TZID:Europe/London
BEGIN:DAYLIGHT
TZOFFSETFROM:+0000
TZOFFSETTO:+0100
TZNAME:BST
DTSTART:20200329T010000
END:DAYLIGHT
BEGIN:STANDARD
TZOFFSETFROM:+0100
TZOFFSETTO:+0000
TZNAME:GMT
DTSTART:20201025T010000
END:STANDARD
END:VTIMEZONE
BEGIN:VEVENT
DTSTART;TZID=Europe/Vienna:20210926T080000
DTEND;TZID=Europe/Vienna:20210929T193000
DTSTAMP:20260423T094930
CREATED:20210118T090030Z
LAST-MODIFIED:20210802T155320Z
UID:4681-1632643200-1632943800@www.sabydoma.eu
SUMMARY:EUROTOX 2021
DESCRIPTION:Under the title “Toxicology of the next generation – Combined efforts in the quest for safer chemicals and medicines”\, this year\, the EUROTOX 2021 will take place online from 26 to 29 September 2021. \nThe congress covers a variety of topics dealing with the safety of drugs and environmental chemicals\, new and emerging technologies\, personalized medicine\, human health effects caused by exposure to chemicals as well as safety issues arising from climate change. \nDownload Congress programme \nMore information here.
URL:https://www.sabydoma.eu/event/eurotox-2021/
LOCATION:Online
CATEGORIES:Conference,Dissemination
ATTACH;FMTTYPE=image/png:https://www.sabydoma.eu/wp-content/uploads/2021/01/Bildschirmfoto-2021-01-18-um-09.55.11.png
END:VEVENT
BEGIN:VEVENT
DTSTART;TZID=Europe/Vienna:20210620T090000
DTEND;TZID=Europe/Vienna:20210625T183000
DTSTAMP:20260423T094930
CREATED:20210118T084828Z
LAST-MODIFIED:20210118T090508Z
UID:4674-1624179600-1624645800@www.sabydoma.eu
SUMMARY:Nanosafety Training School: From Basic Science To Risk Governance 2021
DESCRIPTION:This year the Venice Nano Training School\, organised within the EU funded Horizon 2020 projects BIORIMA\, GRACIOUS\, NanoInformaTIX\, PATROLS\, NANORIGO\, RiskGONE and Gov4Nano will take place in San Servolo (Venice\, Italy) 20th – 25th June 2021\, providing additionally a live-streaming of the event\, for the participants that will not be able to travel. It celebrates its 10th anniversary and joints in one week-event the Interprofessional Education Training School & the 4th NanoSafety Forum for Young Scientists. \nThe School will feature keynote speeches\, hands-on sessions and a dedicated Young Scientist Forum Day during which early career researchers (PhD students\, PhD candidates and Post-Docs) will have the opportunity to present their work. \nThe School week will include a variety of hands-on sessions aimed to transfer state-of-the-art knowledge on a variety of topics from key experts to the new generation of nano-environmental\, health and safety\, and biomedicine professionals\, using interprofessional education. \nA variety of networking activities (a special 10th anniversary welcome cocktail\, social event and a social dinner) will enable plenty of time and opportunities for you to widen your network and foster academic exchange. \nBecome part of an interactive\, exciting week and enrich your knowledge by developing multidisciplinary expertise! \n  \nWho should attend? \n\nEarly-stage researchers\nPhD students and Post-Docs\nSenior researchers\nIndustry\nGovernmental Agencies\nMedical Personnel\nAnyone interested in Safe Nanotechnology\, Risk Assessment and Nano-Medicine\n\n  \nSchool Topics \n\nHazard to Human Health & Environment\nFate & Exposure Assessment\nNanomedicine: from the lab to the market\nModelling\nGrouping & Read Across Approaches\nRisk Governance\n\n  \nInformation about the Young Scientist Forum Day: \nEarly career researchers will have the opportunity to present their work in the form of oral and poster presentations. You can choose between the following themes: \n\nState of the art approaches and challenges towards nanomaterial characterisation\nStrategies towards testing ENM toxicology (human and environmental)\nModelling approaches towards ENM toxicology\nRisk assessment and legal regulation of ENM\nApproaches towards defining human and environmental exposure to EN\n\nHave a look to the draft program here. \nMore information here.
URL:https://www.sabydoma.eu/event/nanosafety-training-school-from-basic-science-to-risk-governance-2021/
LOCATION:San Servolo (Venice\, Italy)
CATEGORIES:Dissemination
ATTACH;FMTTYPE=image/png:https://www.sabydoma.eu/wp-content/uploads/2021/01/10th-anniversrary.png
END:VEVENT
BEGIN:VEVENT
DTSTART;TZID=Europe/Vienna:20210505T090000
DTEND;TZID=Europe/Vienna:20210506T180000
DTSTAMP:20260423T094930
CREATED:20210118T084554Z
LAST-MODIFIED:20210510T072306Z
UID:4671-1620205200-1620324000@www.sabydoma.eu
SUMMARY:EuroNanoForum 2021
DESCRIPTION:Under the Portuguese Presidency of the Council of the European Union in the first half of 2021\, this edition will address Nanotechnology and Advanced Materials as the key elements to guarantee the functioning\, long term durability\, safety\, and environmental compatibility of many devices\, machinery\, and services. \nAdvanced materials will be fundamental for the transition to greener technologies\, and a more sustainable future\, making a significant contribution to the ambitious goals set by the European Green Deal. \nThe EuroNanoForum 2021 will be addressing the role of nano-enabled industries in the drive towards a green and resilient Europe. \nThe event will bring together experts across different sectors to identify policy options and priorities\, to share insight on technical\, industrial\, and social challenges\, as well as their views and ideas about the role of nanotechnology and advanced materials. \nThis will be achieved through the collective effort of several actors encompassing researchers\, innovators\, industries\, regions\, public authorities\, investors\, and civil society\, in the co-creation of innovative solutions. \n  \nThe NanoSafety Cluster is organising an online NSC Event\, as a satellite-event of the EuroNanoForum 2021\, on May 4th. More information here. \n  \nConference Programme\, downloadable here. \nCall for Poster Abstracts\, here. \nSABYDOMA has created a presentation video describing the project background\, its main aims\, key features\, stakeholders and their benefits. Watch the video to find out more: SABYDOMA’s pitch video – YouTube \nRegister here\, for free\, for attending the virtual conference. \n  \nMore details\, at the event website.
URL:https://www.sabydoma.eu/event/euronanoforum-2021/
LOCATION:Online
CATEGORIES:Conference,Dissemination
ATTACH;FMTTYPE=image/png:https://www.sabydoma.eu/wp-content/uploads/2021/01/EuroNanoForum2021.png
END:VEVENT
BEGIN:VEVENT
DTSTART;TZID=Europe/Vienna:20210504T140000
DTEND;TZID=Europe/Vienna:20210504T160000
DTSTAMP:20260423T094930
CREATED:20210419T094408Z
LAST-MODIFIED:20210420T073231Z
UID:5050-1620136800-1620144000@www.sabydoma.eu
SUMMARY:NanoSafety Cluster Event @EuroNanoForum 2021
DESCRIPTION:The NanoSafety Cluster is organising an online NSC Event\, on May 4th from 14:00-16:00h CEST\, as a satellite-event of the EuroNanoForum 2021. \nUnder the title “The delivery/usability of S(S)bD for science\, regulators and the industry”\, SABYDOMA is contributing to the session “Delivery from Science”\, with a pre-recorded presentation about the project\, showing the project’s key features\, stakeholders addressed and which S(S)bD tools we are developing. Do not miss it! \nDownload Agenda: \n\nPart 1 – “Delivery from science”\nPart 2 – “Expectations from regulators\nPart 3 – “Perspective from nanofabrication side”\nPart 4 – “Open discussion forum”\n\n  \nRegistration to the NSC-Event → https://enf2021.eventbrite.ca \nRegistration to the EuroNanoForum 2021 → https://euronanoforum2021.virtualarena.pt/register/visitor-registration
URL:https://www.sabydoma.eu/event/nanosafety-cluster-event-euronanoforum-2021/
LOCATION:Online
CATEGORIES:Conference,Dissemination
ATTACH;FMTTYPE=image/png:https://www.sabydoma.eu/wp-content/uploads/2021/04/News_NSC_ENF2021.png
END:VEVENT
BEGIN:VEVENT
DTSTART;VALUE=DATE:20210420
DTEND;VALUE=DATE:20210423
DTSTAMP:20260423T094930
CREATED:20201123T085322Z
LAST-MODIFIED:20210118T090604Z
UID:4573-1618876800-1619135999@www.sabydoma.eu
SUMMARY:NanoTox 2021
DESCRIPTION:The 10th edition of the International Conference on Nanotoxicology\, the NanoTox 2021 will virtually take place on 20th – 22nd April 2021. \nThe Virtual Conference remains aimed at personnel from research and academic institutions as well as from industry\, government agencies\, and other relevant organisations interested in: \n\nNanotechnology\nHazard and risk assessment of nanomaterials and advanced materials\, and their governance\nAlternative methods for nanomaterial hazard testing\, release and exposure.\nsafe(r) by design (SbD) of nanomaterials and advanced materials.\n\nDeadline for Abstract submission is 30th November 2020: https://nanotox2021.org/abstracts/ \nFor more information\, please consult the conference website: https://nanotox2021.org/ \nThe 2021 Conference is jointly organised by three EU H2020 projects BIORIMA\, GRACIOUS and PATROLS\, focusing on development of novel tools for evaluating human and environmental hazard\, and strategies for nanomaterial characterisation\, classification\, grouping and read-across for risk analysis.
URL:https://www.sabydoma.eu/event/nanotox-2021/
LOCATION:Online
CATEGORIES:Conference,Dissemination
ATTACH;FMTTYPE=image/jpeg:https://www.sabydoma.eu/wp-content/uploads/2020/11/cropped-Nan_Logo-Kopie.jpg
END:VEVENT
BEGIN:VEVENT
DTSTART;TZID=Europe/Vienna:20210319T093000
DTEND;TZID=Europe/Vienna:20210319T130000
DTSTAMP:20260423T094930
CREATED:20210318T071912Z
LAST-MODIFIED:20210318T085834Z
UID:4981-1616146200-1616158800@www.sabydoma.eu
SUMMARY:1st Stakeholders workshop on Safe and Sustainable-by-Design criteria for chemicals\, materials and products
DESCRIPTION:RTD Sustainable-by-Design Team is pleased to invite you to the 1st Stakeholders workshop on Safe and Sustainable-by-Design criteria for chemicals\, materials and products scheduled on 19/03 from 09:30 to 13:00 on Zoom or Teams. \nThe European Green Deal defines a clear vision and objectives to put European economy and society on a sustainable pathway\, in particular to move towards climate neutrality\, a circular economy and a zero pollution/toxic-free ambition. Key for this societal transformation will be the transition to a safe and sustainable by design approach\, so that chemicals\, materials and products are designed\, produced and used in a way which does not harm people and the environment. \nThe Circular Economy Action Plan provides an agenda for achieving a cleaner and more competitive Europe\, where safe and sustainable products are the norm\, improving their durability\, reusability\, upgradability and reparability\, and addressing the presence of hazardous chemicals. The Chemicals Strategy for Sustainability aims to catalyse the shift towards chemicals\, materials and products that are inherently safe and sustainable\, from production to end of life\, and announces that the Commission will develop criteria on safe and sustainable-by-design by 2022. \nThrough this workshop\, the Commission aims to: \n\nInform stakeholders on the planned steps for the development of the safe and sustainable by design criteria;\nInitiate a first exchange of views with all interested parties on the safe and sustainable by design concept;\nGather feedback from stakeholders on the presented steps and first developments.\n\nAn indicative agenda will be provided to you shortly. Kindly find below a link for your registration to the workshop: \nhttps://ec.europa.eu/eusurvey/runner/4f2d0f1b-d6d3-69ca-e62b-54a8cfa1b910 \nWe are looking forward to your participation and will keep you informed. \nFor further information\, please send an e-mail to the mailbox RTD SUSTAINABLE BY DESIGN : RTD-SUSTAINABLE-BY-DESIGN@ec.europa.eu \nSABYDOMA will be represented in the event\, as Andreas Falk (from BNN) will participate in the discussions contributing with his expertise in Safe- and Sustainable-by-Design (SSbD) to the workshop.
URL:https://www.sabydoma.eu/event/1st-stakeholders-workshop-on-safe-and-sustainable-by-design-criteria-for-chemicals-materials-and-products/
LOCATION:Online
CATEGORIES:Dissemination,Workshop
ATTACH;FMTTYPE=image/png:https://www.sabydoma.eu/wp-content/uploads/2021/03/European_Commission.png
END:VEVENT
BEGIN:VEVENT
DTSTART;TZID=Europe/Vienna:20201116T080000
DTEND;TZID=Europe/Vienna:20201120T180000
DTSTAMP:20260423T094930
CREATED:20200727T144524Z
LAST-MODIFIED:20200806T140725Z
UID:4293-1605513600-1605895200@www.sabydoma.eu
SUMMARY:nanoSAFE 2020
DESCRIPTION:This year\, the nanoSAFE 2020 Conference will virtually take place from 16th-20th November 2020. \nFor the first time\, nanoSAFE conference will be held as an entirely digital conference that will offer the nanosafety community the possibility for sharing latest research results on health and safety issues related to nanomaterials and beyond for a socially responsible approach while protecting the safety\, health\, and well-being of all participants. \nThe four NMBP-15 projects (SABYDOMA\, SAbyNA\, ASINA\, SbD4Nano) will be present during the first day of the conference\, the NanoSafety Cluster Day (November 16th)\, chaired by SABYDOMA’s coordinator Andrew Nelson (University of Leeds\, UK) in the WG-E session\, focussing on topics about Safety-by-Design\, Innovation and Sustainability.
URL:https://www.sabydoma.eu/event/nanosafe_2020/
LOCATION:Online
CATEGORIES:Conference,Dissemination
ATTACH;FMTTYPE=image/jpeg:https://www.sabydoma.eu/wp-content/uploads/2020/07/conf-dig.jpg
END:VEVENT
BEGIN:VEVENT
DTSTART;TZID=Europe/London:20200921T130000
DTEND;TZID=Europe/London:20200925T190000
DTSTAMP:20260423T094930
CREATED:20201001T192837Z
LAST-MODIFIED:20201005T072408Z
UID:4487-1600693200-1601060400@www.sabydoma.eu
SUMMARY:SABYDOMA @OpenTox 2020
DESCRIPTION:This year\, the OpenTox Conference 2020 will virtually take place on 21st – 25th September 2020. \nThe purpose of the OpenTox Association is to promote the community-based exchange and use of open knowledge\, methods\, tools\, data\, reference resources\, and standards including open software\, ontology and application programming interfaces in the scientific activities of predictive toxicology\, safety assessment and risk management\, including the “3Rs” goal of the Reduction\, Refinement and Replacement of Animal Testing \nThis edition will have a wide range of topics: Computational Toxicology\, Integrated in silico and in vitro approaches\, OpenTox Resources (open science\, open data\, open software)\, Drug Discovery\, Cosmetics Assessment\, Endocrine Disruption\, Natural Products\, Adverse Outcome Pathways\, Data Science and Resources\, New Algorithms and Methods\, Machine Learning and AI\, Testing\, Kinetics\, and Exposure Modelling\, Risk Assessment\, Safety Biomarkers\, Translational Bioinformatics\, Systems Toxicology\, Investigational Toxicology\, Tiered Strategies\, (Multi-)Organ-on-chip Testing systems\, Toxicokinetics\, Toxicodynamics\, Chemical and Biological Read Across\, Toxicogenomics\, Stratified Clinical Trial Design\, Clinical Data Management\, Real World Evidence\, Text Mining Applications in Toxicology\, AI and Patient Decision Making\, Patient self-diagnostics\, Patient Monitoring and Safety\, SafebyDesign Product Development. \nYvonne Kohl\, from the SABYDOMA’s project partner Fraunhofer IBMT\, will give a talk on advanced miniaturized in vivo-like non-animal approaches for toxicity profiling and non-invasive cell characterization\, in the session „Organ-on-chip testing“. \nPhilip Doganis\, from SABYDOMA’s project partner NTUA\, will be part of a poster session explaining how the Feedback Control will be applied to the Safety by Design of nanomaterials in continuous production lines\, within the SABYDOMA context. \nMore information about the event\, here. \nDetails about the conference program\, here.
URL:https://www.sabydoma.eu/event/sabydoma-opentox-2020/
CATEGORIES:Conference,Dissemination
ATTACH;FMTTYPE=image/png:https://www.sabydoma.eu/wp-content/uploads/2020/10/OpenTox.png
END:VEVENT
BEGIN:VEVENT
DTSTART;TZID=Europe/London:20200521T080000
DTEND;TZID=Europe/London:20200521T170000
DTSTAMP:20260423T094930
CREATED:20200521T113935Z
LAST-MODIFIED:20200806T141657Z
UID:3803-1590048000-1590080400@www.sabydoma.eu
SUMMARY:SABYDOMA  @ Nano WG
DESCRIPTION:Andrew Nelson (University of Leeds\, UK)\, as project coordinator was invited to give a project presentation during the Nanotechnology Working Group (Nano WG) webinar on Thursday\, May 21st\, 2020. \nJoin the webinar to get a good overview of the project. \nThe National Cancer Institute (NCI) Nanotechnology Working Group (Nano WG) was established in 2008 for researchers with a specific interest in informatics and computational approaches to nanotechnology\, with a particular emphasis on nanomedicine. The goal of this working group is to demonstrate the scientific potential of federating nanotechnology databases through pilot projects aimed at integrated semantic search and retrieval of nanomedicine and nanotoxicology datasets that are applicable across nanoscience. The NCI Nano WG comprises over 20 active participants from academia\, government and industry with diverse interests. \nMore information about the event\, here.
URL:https://www.sabydoma.eu/event/nano_wg/
LOCATION:Online
CATEGORIES:Dissemination,Webinar
ATTACH;FMTTYPE=image/jpeg:https://www.sabydoma.eu/wp-content/uploads/2020/05/nanobot.jpg
END:VEVENT
END:VCALENDAR